BEGIN:VCALENDAR
VERSION:2.0
PRODID:-//TSV Rohr 1921 eV - ECPv6.6.1//NONSGML v1.0//EN
CALSCALE:GREGORIAN
METHOD:PUBLISH
X-WR-CALNAME:TSV Rohr 1921 eV
X-ORIGINAL-URL:https://www.tsvrohr.org
X-WR-CALDESC:Veranstaltungen für TSV Rohr 1921 eV
REFRESH-INTERVAL;VALUE=DURATION:PT1H
X-Robots-Tag:noindex
X-PUBLISHED-TTL:PT1H
BEGIN:VTIMEZONE
TZID:Europe/Berlin
BEGIN:DAYLIGHT
TZOFFSETFROM:+0100
TZOFFSETTO:+0200
TZNAME:CEST
DTSTART:20210328T010000
END:DAYLIGHT
BEGIN:STANDARD
TZOFFSETFROM:+0200
TZOFFSETTO:+0100
TZNAME:CET
DTSTART:20211031T010000
END:STANDARD
BEGIN:DAYLIGHT
TZOFFSETFROM:+0100
TZOFFSETTO:+0200
TZNAME:CEST
DTSTART:20220327T010000
END:DAYLIGHT
BEGIN:STANDARD
TZOFFSETFROM:+0200
TZOFFSETTO:+0100
TZNAME:CET
DTSTART:20221030T010000
END:STANDARD
BEGIN:DAYLIGHT
TZOFFSETFROM:+0100
TZOFFSETTO:+0200
TZNAME:CEST
DTSTART:20230326T010000
END:DAYLIGHT
BEGIN:STANDARD
TZOFFSETFROM:+0200
TZOFFSETTO:+0100
TZNAME:CET
DTSTART:20231029T010000
END:STANDARD
BEGIN:DAYLIGHT
TZOFFSETFROM:+0100
TZOFFSETTO:+0200
TZNAME:CEST
DTSTART:20240331T010000
END:DAYLIGHT
BEGIN:STANDARD
TZOFFSETFROM:+0200
TZOFFSETTO:+0100
TZNAME:CET
DTSTART:20241027T010000
END:STANDARD
END:VTIMEZONE
BEGIN:VEVENT
DTSTART;VALUE=DATE:20240329
DTEND;VALUE=DATE:20240330
DTSTAMP:20260424T140122
CREATED:20240228T124925Z
LAST-MODIFIED:20240228T124925Z
UID:4428-1711670400-1711756799@www.tsvrohr.org
SUMMARY:Steckerlfischverkauf
DESCRIPTION:Am Karfreitag findet wieder der Steckerlfischverkauf des Fördervereins statt.\nBestellt werden kann telefonisch (08783/967365) oder unter steckerlfisch.tsvrohr.org. \nWir freuen uns auf euch.
URL:https://www.tsvrohr.org/veranstaltung/steckerlfischverkauf/
LOCATION:Sportheim Rohr\, Badstarße 11\, Rohr i.NB\, Bayern\, 93352\, Deutschland
CATEGORIES:Förderverein des TSV Rohr 1921 e.V.
END:VEVENT
BEGIN:VEVENT
DTSTART;VALUE=DATE:20240316
DTEND;VALUE=DATE:20240317
DTSTAMP:20260424T140122
CREATED:20240228T124017Z
LAST-MODIFIED:20240228T130948Z
UID:4423-1710547200-1710633599@www.tsvrohr.org
SUMMARY:Starkbierfest
DESCRIPTION:Ab 18:00 Uhr findet das Starkbierfest des Fördervereins statt. \nVorher spielen ab 13:00 Uhr die beiden Herrenmannschaften gegen den TSV Hohenthann.
URL:https://www.tsvrohr.org/veranstaltung/starkbierfest/
LOCATION:Sportheim Rohr\, Badstarße 11\, Rohr i.NB\, Bayern\, 93352\, Deutschland
CATEGORIES:Förderverein des TSV Rohr 1921 e.V.
END:VEVENT
BEGIN:VEVENT
DTSTART;TZID=Europe/Berlin:20221112T180000
DTEND;TZID=Europe/Berlin:20221112T235900
DTSTAMP:20260424T140122
CREATED:20221103T064328Z
LAST-MODIFIED:20221103T065014Z
UID:4163-1668276000-1668297540@www.tsvrohr.org
SUMMARY:Weinfest
DESCRIPTION:
URL:https://www.tsvrohr.org/veranstaltung/weinfest/
LOCATION:Sportplatz Rohr\, Badstr.11\, Rohr in Niederbayern\, 93352
ATTACH;FMTTYPE=image/jpeg:https://www.tsvrohr.org/wp-content/uploads/2022/11/Flyer_Weinfest.jpeg
END:VEVENT
BEGIN:VEVENT
DTSTART;TZID=Europe/Berlin:20210910T190000
DTEND;TZID=Europe/Berlin:20210910T210000
DTSTAMP:20260424T140122
CREATED:20210831T112627Z
LAST-MODIFIED:20210831T114908Z
UID:3680-1631300400-1631307600@www.tsvrohr.org
SUMMARY:Mitgliederversammlung
DESCRIPTION:Ordentliche Mitgliederversammlung 2021 \nLiebe Vereinsmitglieder\,\nam Freitag\, den 10.09.21 findet um 19 Uhr im TSV Stüberl die ordentliche Mitgliederversammlung des TSV Rohr statt. Ihr alle seid recht herzlich dazu eingeladen. \nTagesordnung:\n  \n\nBegrüßung durch die 1.Vorsitzende\nGedenken der im letzten Vereinsjahr verstorbenen Mitglieder\nVerlesen des Protokolls der letzten Mitgliederversammlung\nBerichte der Abteilungsleiter\nKassenbericht des Schatzmeisters\nBericht der 1.Vorsitzenden\nBericht der Kassenprüfer\nEntlastung der Vorstandschaft\nBestätigung der Abteilungsleiter\nEhrungen\nWünsche und Anträge (sind 8 Tage vor der MV schriftlich bei der 1.VS einzureichen)\n\nDie Vorstandschaft freut sich über Euer Kommen. \nMit sportlichen Grüßen\, \nMaria Huber \n\nVorsitzende
URL:https://www.tsvrohr.org/veranstaltung/mitgliederversammlung/
LOCATION:TSV Stüberl\, Badstr.11\, Rohr i. NB\, 93352
ATTACH;FMTTYPE=image/jpeg:https://www.tsvrohr.org/wp-content/uploads/2020/07/tsv-rohr_ausschuss_2020.jpg
END:VEVENT
BEGIN:VEVENT
DTSTART;TZID=Europe/Berlin:20210909T180000
DTEND;TZID=Europe/Berlin:20210909T190000
DTSTAMP:20260424T140122
CREATED:20210831T115238Z
LAST-MODIFIED:20220330T133630Z
UID:3817-1631210400-1631214000@www.tsvrohr.org
SUMMARY:Pilates Einsteiger
DESCRIPTION:Ein Training zum Wohlfühlen! Beim Pilates sind Körper und Geist gleichermaßen gefordert. Kontrollierte und präzise Übungen für den ganzen Körper sowie eine konzentrierte und bewusste Atmung verschmelzen zu einem fließenden Bewegungsablauf und sorgen für eine kraftvolle Muskulatur und eine verbesserte Haltung. Im Vordergrund steht hierbei eine starke Körpermitte\, also der Bauch-\, Rücken- und Beckenbodenmuskulatur. \nUm individuell auf die Teilnehmenden eingehen zu können\, finden die Kurse in Kleingruppen statt. Sollte es zu erneuten Einschränkungen (z.B. Schließung der Sportstätten) aufgrund der Coronapandemie kommen\, wird dieser Kurs im digitalen Format fortgeführt. \nPräventionskurs: Dieser zertifizierte Präventionskurs wird von den Krankenkassen bis zu 100% pro Teilnehmer gefördert. \nNächster Kursstart: 16.09.2021 \nSchnupperstunde am 9.9. um 18 Uhr \nKursgebühr: 110€ für Mitglieder für 10 x 60 Min.\nOrt: Turnhalle der Grundschule Trainingszeiten: Donnerstag 17.00 – 18.00 Uhr Fortgeschrittene\nDonnerstag 18.00 – 19.00 Uhr Einsteiger\nTeilnehmende: Alle ab 18 Jahren\nTrainerin: Claudia Aiwanger (Pilatestrainerin Prävention\, Bewegungswissenschaftlerin\, B.A.)\nAnmeldung: bei Maria Huber unter 0171 6174679 oder per Mail an m.huber@tsvrohr.org
URL:https://www.tsvrohr.org/veranstaltung/pilates-einsteiger/
LOCATION:Grundschulturnhalle\, Schulweg 3\, Rohr i.NB\, 93352\, Deutschland
CATEGORIES:Turnen
ATTACH;FMTTYPE=image/jpeg:https://www.tsvrohr.org/wp-content/uploads/2021/08/pilates-3799327_1920.jpg
END:VEVENT
BEGIN:VEVENT
DTSTART;TZID=Europe/Berlin:20210909T170000
DTEND;TZID=Europe/Berlin:20210909T180000
DTSTAMP:20260424T140122
CREATED:20210831T115800Z
LAST-MODIFIED:20210831T115800Z
UID:3865-1631206800-1631210400@www.tsvrohr.org
SUMMARY:Pilates Fortgeschrittene
DESCRIPTION:Ein Training zum Wohlfühlen! Beim Pilates sind Körper und Geist gleichermaßen gefordert. Kontrollierte und präzise Übungen für den ganzen Körper sowie eine konzentrierte und bewusste Atmung verschmelzen zu einem fließenden Bewegungsablauf und sorgen für eine kraftvolle Muskulatur und eine verbesserte Haltung. Im Vordergrund steht hierbei eine starke Körpermitte\, also der Bauch-\, Rücken- und Beckenbodenmuskulatur. \nUm individuell auf die Teilnehmenden eingehen zu können\, finden die Kurse in Kleingruppen statt. Sollte es zu erneuten Einschränkungen (z.B. Schließung der Sportstätten) aufgrund der Coronapandemie kommen\, wird dieser Kurs im digitalen Format fortgeführt. \nPräventionskurs: Dieser zertifizierte Präventionskurs wird von den Krankenkassen bis zu 100% pro Teilnehmer gefördert. \nNächster Kursstart: 16.09.2021 \nSchnupperstunde am 9.9. um 18 Uhr \nKursgebühr: 110€ für Mitglieder für 10 x 60 Min.\nOrt: Turnhalle der Grundschule Trainingszeiten: Donnerstag 17.00 – 18.00 Uhr Fortgeschrittene\nDonnerstag 18.00 – 19.00 Uhr Einsteiger\nTeilnehmende: Alle ab 18 Jahren\nTrainerin: Claudia Aiwanger (Pilatestrainerin Prävention\, Bewegungswissenschaftlerin\, B.A.)\nAnmeldung: bei Maria Huber unter 0171 6174679 oder per Mail an m.huber@tsvrohr.org
URL:https://www.tsvrohr.org/veranstaltung/pilates-fortgeschrittene/
LOCATION:Grundschulturnhalle\, Schulweg 3\, Rohr i.NB\, 93352\, Deutschland
CATEGORIES:Turnen
ATTACH;FMTTYPE=image/jpeg:https://www.tsvrohr.org/wp-content/uploads/2021/08/pilates-3799327_1920.jpg
END:VEVENT
BEGIN:VEVENT
DTSTART;TZID=Europe/Berlin:20210907T190000
DTEND;TZID=Europe/Berlin:20210907T200000
DTSTAMP:20260424T140122
CREATED:20210831T120041Z
LAST-MODIFIED:20210831T120119Z
UID:3913-1631041200-1631044800@www.tsvrohr.org
SUMMARY:Funktionelles Training
DESCRIPTION:Mit dem eigenen Körpergewicht und verschiedenen Kleingeräten als Widerstand werden im Funktionellen Training Kräftigungsübungen für den ganzen Körper ausgeführt. Die komplexen und kreativen Übungen fordern deine Koordinations- und Konzentrationsfähigkeit heraus und sorgen für den nötigen Spaß beim Training. Mitmachen kann Jede und Jeder ab 16 Jahren.  \nDas Training findet ab 7. September immer dienstags um 19 Uhr in der Turnhalle des Gymnasiums statt.\nKosten: 60€ pro 10er-Karte für Mitglieder. \nSchnupperstunde? Jederzeit! Melde dich bitte vorher bei der Trainerin Claudia Aiwanger unter 0176 81768803 an.
URL:https://www.tsvrohr.org/veranstaltung/funktionelles-training/
LOCATION:Gymnasiumturnhalle\, Am Klostergarten / Asamstraße\, Rohr i.NB\, 93352\, Deutschland
CATEGORIES:Turnen
ATTACH;FMTTYPE=image/jpeg:https://www.tsvrohr.org/wp-content/uploads/2021/08/woman-2250970_1920.jpg
END:VEVENT
BEGIN:VEVENT
DTSTART;TZID=Europe/Berlin:20210905T140000
DTEND;TZID=Europe/Berlin:20210905T190000
DTSTAMP:20260424T140122
CREATED:20210831T112841Z
LAST-MODIFIED:20210831T114853Z
UID:3685-1630850400-1630868400@www.tsvrohr.org
SUMMARY:Tennistreff
DESCRIPTION:Tennistreff ab 14 Uhr mit Kaffee und Kuchen \nKommt vorbei und schwingt den Tennisschläger!
URL:https://www.tsvrohr.org/veranstaltung/tennistreff/
LOCATION:Tennisplätze
ATTACH;FMTTYPE=image/jpeg:https://www.tsvrohr.org/wp-content/uploads/2021/08/Tennistreff-0921-scaled.jpg
END:VEVENT
END:VCALENDAR